BEGIN:VCALENDAR
VERSION:2.0
PRODID:-//FamilieRundi - ECPv6.15.20//NONSGML v1.0//EN
CALSCALE:GREGORIAN
METHOD:PUBLISH
X-ORIGINAL-URL:https://www.familierundi.ch
X-WR-CALDESC:Veranstaltungen für FamilieRundi
REFRESH-INTERVAL;VALUE=DURATION:PT1H
X-Robots-Tag:noindex
X-PUBLISHED-TTL:PT1H
BEGIN:VTIMEZONE
TZID:UTC
BEGIN:STANDARD
TZOFFSETFROM:+0000
TZOFFSETTO:+0000
TZNAME:UTC
DTSTART:20250101T000000
END:STANDARD
END:VTIMEZONE
BEGIN:VEVENT
DTSTART;TZID=UTC:20260509T090000
DTEND;TZID=UTC:20260509T113000
DTSTAMP:20260423T150557
CREATED:20251231T192054Z
LAST-MODIFIED:20260401T084314Z
UID:1496-1778317200-1778326200@www.familierundi.ch
SUMMARY:Waldtag bei Stolli-Mig
DESCRIPTION:Erlebe einen spannenden und lehrreichen Vormittag mit verschiedenen Posten rund um den Beruf des Försters.\n Bitte Kleidung für in den Wald anziehen! Für einen kleinen Znüni wird gesorgt. \nSamstag\, 9.5.2026 (Verschiebedatum 30.5.2026)\nForsthütte Cholloch\, Rufi\n09.00 – 11.30 Uhr\n1. – 3. Klasse\nKosten: 15 Franken pro Kind
URL:https://www.familierundi.ch/event/waldmorgen/
ATTACH;FMTTYPE=image/png:https://www.familierundi.ch/wp-content/uploads/tree-576144_640-1-e1767208817633.png
END:VEVENT
END:VCALENDAR