BEGIN:VCALENDAR
VERSION:2.0
PRODID:-//FamilieRundi - ECPv6.15.20//NONSGML v1.0//EN
CALSCALE:GREGORIAN
METHOD:PUBLISH
X-WR-CALNAME:FamilieRundi
X-ORIGINAL-URL:https://www.familierundi.ch
X-WR-CALDESC:Veranstaltungen für FamilieRundi
REFRESH-INTERVAL;VALUE=DURATION:PT1H
X-Robots-Tag:noindex
X-PUBLISHED-TTL:PT1H
BEGIN:VTIMEZONE
TZID:UTC
BEGIN:STANDARD
TZOFFSETFROM:+0000
TZOFFSETTO:+0000
TZNAME:UTC
DTSTART:20250101T000000
END:STANDARD
END:VTIMEZONE
BEGIN:VEVENT
DTSTART;TZID=UTC:20260506T133000
DTEND;TZID=UTC:20260506T163000
DTSTAMP:20260423T115011
CREATED:20251231T191232Z
LAST-MODIFIED:20260125T153225Z
UID:1492-1778074200-1778085000@www.familierundi.ch
SUMMARY:Resilienz- und Selbstbehauptungstraining
DESCRIPTION:In diesem Training entdecken die Kinder ihre eigenen Stärken\, sie lernen sich klar abzugrenzen und erfahren\, wie einzigartig sie sind. \nMittwoch\, 6.5.2026\n13.30 – 16.30 Uhr\ngrosser Kindergarten – 3. Klasse\nmaximal 12 Kinder\nHofsäli\n69 Franken/Kind\nMitbringen: einen Zvieri\, Getränk\, ein Foto von sich\nAnmeldung: bitte Namen/Alter/E-Mail-Adresse angeben\nInfos: https://www.herzstarkcoaching.ch/start
URL:https://www.familierundi.ch/event/resilienz-und-selbstbehauptungstraining/
ATTACH;FMTTYPE=image/png:https://www.familierundi.ch/wp-content/uploads/dragon-152823_640-e1767209024895.png
END:VEVENT
END:VCALENDAR