BEGIN:VCALENDAR
VERSION:2.0
PRODID:-//FamilieRundi - ECPv6.15.20//NONSGML v1.0//EN
CALSCALE:GREGORIAN
METHOD:PUBLISH
X-ORIGINAL-URL:https://www.familierundi.ch
X-WR-CALDESC:Veranstaltungen für FamilieRundi
REFRESH-INTERVAL;VALUE=DURATION:PT1H
X-Robots-Tag:noindex
X-PUBLISHED-TTL:PT1H
BEGIN:VTIMEZONE
TZID:UTC
BEGIN:STANDARD
TZOFFSETFROM:+0000
TZOFFSETTO:+0000
TZNAME:UTC
DTSTART:20250101T000000
END:STANDARD
END:VTIMEZONE
BEGIN:VEVENT
DTSTART;TZID=UTC:20260422T133000
DTEND;TZID=UTC:20260422T160000
DTSTAMP:20260423T114350
CREATED:20251231T190843Z
LAST-MODIFIED:20251231T190843Z
UID:1489-1776864600-1776873600@www.familierundi.ch
SUMMARY:Kinderflohmarkt + Kleiderbörse
DESCRIPTION:Alle Kinder haben die Gelegenheit\, Spielsachen\, Bücher\, DVDs\, Kleider\, Schuhe usw. zu verkaufen oder zu tauschen. Einfach eine Decke mitbringen und in der Turnhalle Platz nehmen. Kinderkleider dürfen auch gerne auf einem Tisch im Foyer verkauft werden. \nMittwoch\, 22.4.2026\nEinrichten: 13.30 – 14.00 Uhr\nVerkauf: 14.00 – 16.00 Uhr\nMZG Schänis
URL:https://www.familierundi.ch/event/kinderflohmarkt-kleiderboerse/
ATTACH;FMTTYPE=image/png:https://www.familierundi.ch/wp-content/uploads/garage-sale-151190_640-e1767208093844.png
END:VEVENT
END:VCALENDAR