BEGIN:VCALENDAR
VERSION:2.0
PRODID:-//FamilieRundi - ECPv6.15.20//NONSGML v1.0//EN
CALSCALE:GREGORIAN
METHOD:PUBLISH
X-WR-CALNAME:FamilieRundi
X-ORIGINAL-URL:https://www.familierundi.ch
X-WR-CALDESC:Veranstaltungen für FamilieRundi
REFRESH-INTERVAL;VALUE=DURATION:PT1H
X-Robots-Tag:noindex
X-PUBLISHED-TTL:PT1H
BEGIN:VTIMEZONE
TZID:UTC
BEGIN:STANDARD
TZOFFSETFROM:+0000
TZOFFSETTO:+0000
TZNAME:UTC
DTSTART:20250101T000000
END:STANDARD
END:VTIMEZONE
BEGIN:VEVENT
DTSTART;TZID=UTC:20260325T140000
DTEND;TZID=UTC:20260325T163000
DTSTAMP:20260423T163421
CREATED:20251231T185554Z
LAST-MODIFIED:20260325T074952Z
UID:1477-1774447200-1774456200@www.familierundi.ch
SUMMARY:Osterevent
DESCRIPTION:Die Familie Rundi lädt herzlich zu einem Osterevent ein. Gemeinsam machen wir etwas Kreatives zu Ostern – seid gespannt\, was euch erwartet… \nMittwoch\, 25. März\nKulturlokal Eichen\n14.00 – 16.30 Uhr\nKindergarten bis 2. Klasse\n15 Kinder\nKosten: 15 Franken\nBitte Schürze/alte Kleider zum Basteln mitbringen. Für einen Zvieri ist gesorgt. \nAnmeldung:  bis 20.3.2026
URL:https://www.familierundi.ch/event/osterevent/
ATTACH;FMTTYPE=image/png:https://www.familierundi.ch/wp-content/uploads/bunny-158371_1920-2-e1767207326578.png
END:VEVENT
END:VCALENDAR