BEGIN:VCALENDAR
VERSION:2.0
PRODID:-//FamilieRundi - ECPv6.15.20//NONSGML v1.0//EN
CALSCALE:GREGORIAN
METHOD:PUBLISH
X-WR-CALNAME:FamilieRundi
X-ORIGINAL-URL:https://www.familierundi.ch
X-WR-CALDESC:Veranstaltungen für FamilieRundi
REFRESH-INTERVAL;VALUE=DURATION:PT1H
X-Robots-Tag:noindex
X-PUBLISHED-TTL:PT1H
BEGIN:VTIMEZONE
TZID:UTC
BEGIN:STANDARD
TZOFFSETFROM:+0000
TZOFFSETTO:+0000
TZNAME:UTC
DTSTART:20250101T000000
END:STANDARD
END:VTIMEZONE
BEGIN:VEVENT
DTSTART;TZID=UTC:20260304T140000
DTEND;TZID=UTC:20260304T153000
DTSTAMP:20260423T163253
CREATED:20251231T183226Z
LAST-MODIFIED:20260125T093909Z
UID:1474-1772632800-1772638200@www.familierundi.ch
SUMMARY:Chasperlitheater s'Gheimnis vom Schlossgspenst
DESCRIPTION:Mittwoch\, 4. März\n14.00 Uhr und 15.00 Uhr (Dauer jeweils 30 Minuten)\nim Pfarreisaal des MZG Schänis\n4 Franken pro Person (ab 2 Jahren)\nohne Anmeldung\nTickets ab 13.30 Uhr vor Ort erhältlich
URL:https://www.familierundi.ch/event/chasperlitheater-die-verschwundeni-zipfelchappe/
ATTACH;FMTTYPE=image/png:https://www.familierundi.ch/wp-content/uploads/stage-158366_640-e1767207501790.png
END:VEVENT
END:VCALENDAR